BEGIN:VCALENDAR
VERSION:2.0
PRODID:-//SRTC - ECPv6.15.18//NONSGML v1.0//EN
CALSCALE:GREGORIAN
METHOD:PUBLISH
X-WR-CALNAME:SRTC
X-ORIGINAL-URL:http://srtc.org
X-WR-CALDESC:Events for SRTC
REFRESH-INTERVAL;VALUE=DURATION:PT1H
X-Robots-Tag:noindex
X-PUBLISHED-TTL:PT1H
BEGIN:VTIMEZONE
TZID:America/Los_Angeles
BEGIN:DAYLIGHT
TZOFFSETFROM:-0800
TZOFFSETTO:-0700
TZNAME:PDT
DTSTART:20250309T100000
END:DAYLIGHT
BEGIN:STANDARD
TZOFFSETFROM:-0700
TZOFFSETTO:-0800
TZNAME:PST
DTSTART:20251102T090000
END:STANDARD
BEGIN:DAYLIGHT
TZOFFSETFROM:-0800
TZOFFSETTO:-0700
TZNAME:PDT
DTSTART:20260308T100000
END:DAYLIGHT
BEGIN:STANDARD
TZOFFSETFROM:-0700
TZOFFSETTO:-0800
TZNAME:PST
DTSTART:20261101T090000
END:STANDARD
BEGIN:DAYLIGHT
TZOFFSETFROM:-0800
TZOFFSETTO:-0700
TZNAME:PDT
DTSTART:20270314T100000
END:DAYLIGHT
BEGIN:STANDARD
TZOFFSETFROM:-0700
TZOFFSETTO:-0800
TZNAME:PST
DTSTART:20271107T090000
END:STANDARD
END:VTIMEZONE
BEGIN:VEVENT
DTSTART;VALUE=DATE:20260413
DTEND;VALUE=DATE:20260423
DTSTAMP:20260422T031838
CREATED:20251222T212629Z
LAST-MODIFIED:20251222T212629Z
UID:10000214-1776038400-1776902399@srtc.org
SUMMARY:2026-2029 May TIP Amendment Public Comment Period
DESCRIPTION:
URL:http://srtc.org/event/2026-2029-may-tip-amendment-public-comment-period/
CATEGORIES:Transportation Improvement Program (TIP)
END:VEVENT
BEGIN:VEVENT
DTSTART;VALUE=DATE:20260511
DTEND;VALUE=DATE:20260521
DTSTAMP:20260422T031838
CREATED:20251222T212737Z
LAST-MODIFIED:20251222T212737Z
UID:10000215-1778457600-1779321599@srtc.org
SUMMARY:2026-2029 June TIP Amendment Public Comment Period
DESCRIPTION:
URL:http://srtc.org/event/2026-2029-june-tip-amendment-public-comment-period/
CATEGORIES:Transportation Improvement Program (TIP)
END:VEVENT
BEGIN:VEVENT
DTSTART;VALUE=DATE:20260615
DTEND;VALUE=DATE:20260625
DTSTAMP:20260422T031838
CREATED:20251222T212900Z
LAST-MODIFIED:20251222T212900Z
UID:10000216-1781481600-1782345599@srtc.org
SUMMARY:2026-2029 July TIP Amendment Public Comment Period
DESCRIPTION:
URL:http://srtc.org/event/2026-2029-july-tip-amendment-public-comment-period/
CATEGORIES:Transportation Improvement Program (TIP)
END:VEVENT
BEGIN:VEVENT
DTSTART;VALUE=DATE:20260713
DTEND;VALUE=DATE:20260723
DTSTAMP:20260422T031838
CREATED:20251222T213107Z
LAST-MODIFIED:20251222T213107Z
UID:10000217-1783900800-1784764799@srtc.org
SUMMARY:2026-2029 August Amendment Public Comment Period
DESCRIPTION:
URL:http://srtc.org/event/2026-2029-august-amendment-public-comment-period/
CATEGORIES:Transportation Improvement Program (TIP)
END:VEVENT
BEGIN:VEVENT
DTSTART;VALUE=DATE:20260817
DTEND;VALUE=DATE:20260827
DTSTAMP:20260422T031838
CREATED:20251222T213240Z
LAST-MODIFIED:20251222T213240Z
UID:10000218-1786924800-1787788799@srtc.org
SUMMARY:2026-2029 September Amendment Public Comment Period
DESCRIPTION:
URL:http://srtc.org/event/2026-2029-september-amendment-public-comment-period/
CATEGORIES:Transportation Improvement Program (TIP)
END:VEVENT
BEGIN:VEVENT
DTSTART;VALUE=DATE:20260914
DTEND;VALUE=DATE:20260924
DTSTAMP:20260422T031838
CREATED:20251222T213347Z
LAST-MODIFIED:20251222T213347Z
UID:10000219-1789344000-1790207999@srtc.org
SUMMARY:2026-2029 October Amendment Public Comment Period
DESCRIPTION:
URL:http://srtc.org/event/2026-2029-october-amendment-public-comment-period/
CATEGORIES:Transportation Improvement Program (TIP)
END:VEVENT
END:VCALENDAR