BEGIN:VCALENDAR
VERSION:2.0
PRODID:-//SRTC - ECPv6.15.18//NONSGML v1.0//EN
CALSCALE:GREGORIAN
METHOD:PUBLISH
X-WR-CALNAME:SRTC
X-ORIGINAL-URL:http://srtc.org
X-WR-CALDESC:Events for SRTC
REFRESH-INTERVAL;VALUE=DURATION:PT1H
X-Robots-Tag:noindex
X-PUBLISHED-TTL:PT1H
BEGIN:VTIMEZONE
TZID:America/Los_Angeles
BEGIN:DAYLIGHT
TZOFFSETFROM:-0800
TZOFFSETTO:-0700
TZNAME:PDT
DTSTART:20250309T100000
END:DAYLIGHT
BEGIN:STANDARD
TZOFFSETFROM:-0700
TZOFFSETTO:-0800
TZNAME:PST
DTSTART:20251102T090000
END:STANDARD
BEGIN:DAYLIGHT
TZOFFSETFROM:-0800
TZOFFSETTO:-0700
TZNAME:PDT
DTSTART:20260308T100000
END:DAYLIGHT
BEGIN:STANDARD
TZOFFSETFROM:-0700
TZOFFSETTO:-0800
TZNAME:PST
DTSTART:20261101T090000
END:STANDARD
BEGIN:DAYLIGHT
TZOFFSETFROM:-0800
TZOFFSETTO:-0700
TZNAME:PDT
DTSTART:20270314T100000
END:DAYLIGHT
BEGIN:STANDARD
TZOFFSETFROM:-0700
TZOFFSETTO:-0800
TZNAME:PST
DTSTART:20271107T090000
END:STANDARD
END:VTIMEZONE
BEGIN:VEVENT
DTSTART;TZID=America/Los_Angeles:20260709T130000
DTEND;TZID=America/Los_Angeles:20260709T150000
DTSTAMP:20260421T085445
CREATED:20251220T004428Z
LAST-MODIFIED:20251220T004428Z
UID:10000173-1783602000-1783609200@srtc.org
SUMMARY:July SRTC Board of Directors Meeting
DESCRIPTION:
URL:http://srtc.org/event/july-srtc-board-of-directors-meeting/
LOCATION:Spokane Regional Transportation Council Office\, 421 W Riverside Ave\, Suite 500\, Spokane\, WA\, 99201\, United States
CATEGORIES:Board Of Directors
END:VEVENT
END:VCALENDAR