BEGIN:VCALENDAR
VERSION:2.0
PRODID:-//SRTC - ECPv6.15.18//NONSGML v1.0//EN
CALSCALE:GREGORIAN
METHOD:PUBLISH
X-ORIGINAL-URL:http://srtc.org
X-WR-CALDESC:Events for SRTC
REFRESH-INTERVAL;VALUE=DURATION:PT1H
X-Robots-Tag:noindex
X-PUBLISHED-TTL:PT1H
BEGIN:VTIMEZONE
TZID:America/Los_Angeles
BEGIN:DAYLIGHT
TZOFFSETFROM:-0800
TZOFFSETTO:-0700
TZNAME:PDT
DTSTART:20250309T100000
END:DAYLIGHT
BEGIN:STANDARD
TZOFFSETFROM:-0700
TZOFFSETTO:-0800
TZNAME:PST
DTSTART:20251102T090000
END:STANDARD
BEGIN:DAYLIGHT
TZOFFSETFROM:-0800
TZOFFSETTO:-0700
TZNAME:PDT
DTSTART:20260308T100000
END:DAYLIGHT
BEGIN:STANDARD
TZOFFSETFROM:-0700
TZOFFSETTO:-0800
TZNAME:PST
DTSTART:20261101T090000
END:STANDARD
BEGIN:DAYLIGHT
TZOFFSETFROM:-0800
TZOFFSETTO:-0700
TZNAME:PDT
DTSTART:20270314T100000
END:DAYLIGHT
BEGIN:STANDARD
TZOFFSETFROM:-0700
TZOFFSETTO:-0800
TZNAME:PST
DTSTART:20271107T090000
END:STANDARD
END:VTIMEZONE
BEGIN:VEVENT
DTSTART;VALUE=DATE:20260713
DTEND;VALUE=DATE:20260723
DTSTAMP:20260421T084154
CREATED:20251222T213107Z
LAST-MODIFIED:20251222T213107Z
UID:10000217-1783900800-1784764799@srtc.org
SUMMARY:2026-2029 August Amendment Public Comment Period
DESCRIPTION:
URL:http://srtc.org/event/2026-2029-august-amendment-public-comment-period/
LOCATION:WA
CATEGORIES:Transportation Improvement Program (TIP)
END:VEVENT
BEGIN:VEVENT
DTSTART;TZID=America/Los_Angeles:20260716T150000
DTEND;TZID=America/Los_Angeles:20260716T160000
DTSTAMP:20260421T084154
CREATED:20251222T205616Z
LAST-MODIFIED:20251222T205616Z
UID:10000206-1784214000-1784217600@srtc.org
SUMMARY:July Alternative Transportation Fuels Coalition Meeting
DESCRIPTION:
URL:http://srtc.org/event/july-alternative-transportation-fuels-coalition-meeting/
LOCATION:Teams Meeting
CATEGORIES:Alternative Transportation Fuels Coalition
END:VEVENT
END:VCALENDAR