BEGIN:VCALENDAR
VERSION:2.0
PRODID:-//SRTC - ECPv6.15.18//NONSGML v1.0//EN
CALSCALE:GREGORIAN
METHOD:PUBLISH
X-ORIGINAL-URL:https://srtc.org
X-WR-CALDESC:Events for SRTC
REFRESH-INTERVAL;VALUE=DURATION:PT1H
X-Robots-Tag:noindex
X-PUBLISHED-TTL:PT1H
BEGIN:VTIMEZONE
TZID:America/Los_Angeles
BEGIN:DAYLIGHT
TZOFFSETFROM:-0800
TZOFFSETTO:-0700
TZNAME:PDT
DTSTART:20250309T100000
END:DAYLIGHT
BEGIN:STANDARD
TZOFFSETFROM:-0700
TZOFFSETTO:-0800
TZNAME:PST
DTSTART:20251102T090000
END:STANDARD
BEGIN:DAYLIGHT
TZOFFSETFROM:-0800
TZOFFSETTO:-0700
TZNAME:PDT
DTSTART:20260308T100000
END:DAYLIGHT
BEGIN:STANDARD
TZOFFSETFROM:-0700
TZOFFSETTO:-0800
TZNAME:PST
DTSTART:20261101T090000
END:STANDARD
BEGIN:DAYLIGHT
TZOFFSETFROM:-0800
TZOFFSETTO:-0700
TZNAME:PDT
DTSTART:20270314T100000
END:DAYLIGHT
BEGIN:STANDARD
TZOFFSETFROM:-0700
TZOFFSETTO:-0800
TZNAME:PST
DTSTART:20271107T090000
END:STANDARD
END:VTIMEZONE
BEGIN:VEVENT
DTSTART;TZID=America/Los_Angeles:20260214T110000
DTEND;TZID=America/Los_Angeles:20260214T170000
DTSTAMP:20260420T010809
CREATED:20260116T004742Z
LAST-MODIFIED:20260205T173155Z
UID:10000225-1771066800-1771088400@srtc.org
SUMMARY:Lunar New Year Celebration
DESCRIPTION:SRTC will have a table at this community event\, sharing information about current plan updates and how you can contribute.
URL:https://srtc.org/event/lunar-new-year-celebration/
LOCATION:Spokane Convention Center\, 334 W Spokane Falls Blvd\, Spokane\, WA\, 99201\, United States
CATEGORIES:SRTC Events
END:VEVENT
END:VCALENDAR